BEGIN:VCALENDAR
VERSION:2.0
METHOD:PUBLISH
PRODID:-//Accessible Web Design//My Calendar//http://www.joedolson.com//v//EN';
BEGIN:VEVENT
UID:4-4
LOCATION:Zoom - link will be shared upon registration confirmation
SUMMARY:Accessibility Training Series
DTSTAMP:20231101T100000
ORGANIZER;CN=Arlene Lugo:MAILTO:Arlene.Lugo@ct.gov
DTSTART:20231101T100000
DTEND:20231101T120000
CATEGORIES:General
URL;VALUE=URI:https://cttechact.com/mc-events/accessibility-training-series/?mc_id=4
DESCRIPTION:Free virtual training focusing on creating accessible materials for anyone who creates and shares materials. Learn accessibility tips for Windows, Apples, Microsoft, Word, PowerPoint, PDFs and more!
END:VEVENT
END:VCALENDAR