BEGIN:VCALENDAR
VERSION:2.0
METHOD:PUBLISH
PRODID:-//Accessible Web Design//My Calendar//http://www.joedolson.com//v//EN';
BEGIN:VEVENT
UID:6-6
LOCATION:Public Library of New Haven 63 Huntington St  New London CT 06320
SUMMARY:Bridge the Digital Divide
DTSTAMP:20231003T103000
ORGANIZER;CN=Arlene Lugo:MAILTO:Arlene.Lugo@ct.gov
DTSTART:20231003T103000
DTEND:20231003T120000
CATEGORIES:General
URL;VALUE=URI:https://cttechact.com/mc-events/bridge-the-digital-divide/?mc_id=6
DESCRIPTION:In Person! A collaboration with UCP of Eastern CT &amp; the New London Public Library. Increase access to technology, connect individuals to community resources, tech support and troubleshooting. This event is part of  Digital Inclusion Week.
END:VEVENT
END:VCALENDAR